BEGIN:VCALENDAR
VERSION:2.0
PRODID:-//ASHE Georgia Section - ECPv6.15.20//NONSGML v1.0//EN
CALSCALE:GREGORIAN
METHOD:PUBLISH
X-WR-CALNAME:ASHE Georgia Section
X-ORIGINAL-URL:https://georgia.ashe.pro
X-WR-CALDESC:Events for ASHE Georgia Section
REFRESH-INTERVAL;VALUE=DURATION:PT1H
X-Robots-Tag:noindex
X-PUBLISHED-TTL:PT1H
BEGIN:VTIMEZONE
TZID:America/New_York
BEGIN:DAYLIGHT
TZOFFSETFROM:-0500
TZOFFSETTO:-0400
TZNAME:EDT
DTSTART:20250309T070000
END:DAYLIGHT
BEGIN:STANDARD
TZOFFSETFROM:-0400
TZOFFSETTO:-0500
TZNAME:EST
DTSTART:20251102T060000
END:STANDARD
BEGIN:DAYLIGHT
TZOFFSETFROM:-0500
TZOFFSETTO:-0400
TZNAME:EDT
DTSTART:20260308T070000
END:DAYLIGHT
BEGIN:STANDARD
TZOFFSETFROM:-0400
TZOFFSETTO:-0500
TZNAME:EST
DTSTART:20261101T060000
END:STANDARD
BEGIN:DAYLIGHT
TZOFFSETFROM:-0500
TZOFFSETTO:-0400
TZNAME:EDT
DTSTART:20270314T070000
END:DAYLIGHT
BEGIN:STANDARD
TZOFFSETFROM:-0400
TZOFFSETTO:-0500
TZNAME:EST
DTSTART:20271107T060000
END:STANDARD
END:VTIMEZONE
BEGIN:VEVENT
DTSTART;TZID=America/New_York:20260422T080000
DTEND;TZID=America/New_York:20260422T120000
DTSTAMP:20260422T083912
CREATED:20260219T031406Z
LAST-MODIFIED:20260316T001638Z
UID:4921-1776844800-1776859200@georgia.ashe.pro
SUMMARY:2026 GSWCC Level II NPDES Recertification Class
DESCRIPTION:Registration for this event has ended.Online registration for the 2026 April Luncheon is closed. If you still wish to register for this event\, contact Tabatha Carlton to confirm if space is still available.What to expect:\nCobb & Cherokee Counties Panel: SPLOST/TSPLOST Programs (This event is 0.5 PDHs)___________________________________________________________________________________JOIN US ON APRIL 24 FOR ANOTHER LUNCHEON!\n\nWE'RE DISCUSSING THE SPLOST/TSPLOT PROGRAMS IN COBB & CHEROKEE COUNTIES\nWITH BRETT BUCHANAN\, PE\, PAT BRADSHAW\, AICP\, AND DREW RAESSLER\, PE!\n\nEVENT LOCATED AT MAGGIANO'S CUMBERLAND\nPhoto source: https://ywcagsonc.org/wp-content/uploads/2016/01/LunchLearnPlate.png\n\n\n\n___________________________________________________________________________________Important Dates\nRegistration Begins:  Wednesday\, March 25th\, 2026 at 05:00am    Early Registration Ends:   Friday\, April 17th\, 2026 at 11:59pm&nbsp(After this date\, prices listed above will be an additional $5.)Registration Closes:  Tuesday\, April 21st\, 2026 at 03:00pmQuestions and comments?Contact Tabatha Carlton (tabatha.carlton@loweengineers.com).___________________________________________________________________________________CLICK HERE FOR A PRINTABLE FLYER
URL:https://georgia.ashe.pro/event/2026npdes/
LOCATION:Virtual Meeting
END:VEVENT
END:VCALENDAR