BEGIN:VCALENDAR
VERSION:2.0
PRODID:-//ASHE Georgia Section - ECPv6.15.20//NONSGML v1.0//EN
CALSCALE:GREGORIAN
METHOD:PUBLISH
X-WR-CALNAME:ASHE Georgia Section
X-ORIGINAL-URL:https://georgia.ashe.pro
X-WR-CALDESC:Events for ASHE Georgia Section
REFRESH-INTERVAL;VALUE=DURATION:PT1H
X-Robots-Tag:noindex
X-PUBLISHED-TTL:PT1H
BEGIN:VTIMEZONE
TZID:America/New_York
BEGIN:DAYLIGHT
TZOFFSETFROM:-0500
TZOFFSETTO:-0400
TZNAME:EDT
DTSTART:20190310T070000
END:DAYLIGHT
BEGIN:STANDARD
TZOFFSETFROM:-0400
TZOFFSETTO:-0500
TZNAME:EST
DTSTART:20191103T060000
END:STANDARD
BEGIN:DAYLIGHT
TZOFFSETFROM:-0500
TZOFFSETTO:-0400
TZNAME:EDT
DTSTART:20200308T070000
END:DAYLIGHT
BEGIN:STANDARD
TZOFFSETFROM:-0400
TZOFFSETTO:-0500
TZNAME:EST
DTSTART:20201101T060000
END:STANDARD
BEGIN:DAYLIGHT
TZOFFSETFROM:-0500
TZOFFSETTO:-0400
TZNAME:EDT
DTSTART:20210314T070000
END:DAYLIGHT
BEGIN:STANDARD
TZOFFSETFROM:-0400
TZOFFSETTO:-0500
TZNAME:EST
DTSTART:20211107T060000
END:STANDARD
END:VTIMEZONE
BEGIN:VEVENT
DTSTART;TZID=America/New_York:20200528T120000
DTEND;TZID=America/New_York:20200528T130000
DTSTAMP:20260423T054113
CREATED:20200521T175244Z
LAST-MODIFIED:20200803T015748Z
UID:3220-1590667200-1590670800@georgia.ashe.pro
SUMMARY:ASHE National Installation of Officers
DESCRIPTION:× \n\n  \nThe Virtual Meeting Link/Phone number has been sent out to all registrants. If you have not received it\, please email Mindy Sanders (mhsanders@pontengineering.com) to receive the information. \n\n\n \nRegistration for this event has ended.Online registration for the ASHE June Luncheon 2021 is closed. If you still wish to register for this event\, contact Chris Rideout to confirm if space is still available.What to expect:\nGeorgia Department of Transportation: Tim Matthews\, MMIP Program ManagerAlbert Shelby\, Director of Program Delivery (This event is 0.5 PDHs)___________________________________________________________________________________We're hosting our first in-person luncheon for 2021\, featuring keynote speakers Tim Matthews\, MMIP Program Manager and Albert Shelby\, Director of Program Delivery of Georgia Department of Transportation will both share updates on GDOT projects and procurement.    This meeting will also be b\n\n___________________________________________________________________________________Important Dates\nRegistration Begins:  Monday\, June 7th\, 2021 at 07:00am    Early Registration Ends:   Tuesday\, June 15th\, 2021 at 11:59pm&nbsp(After this date\, prices listed above will be an additional $5.)Registration Closes:  Thursday\, June 17th\, 2021 at 10:00pmQuestions and comments?Contact Chris Rideout (crideout@croyengineering.com).\n\n 
URL:https://georgia.ashe.pro/event/2020mtg05/
LOCATION:GA
CATEGORIES:Meeting
ORGANIZER;CN="Mindy Sanders":MAILTO:mhsanders@pontengineering.com
END:VEVENT
END:VCALENDAR