BEGIN:VCALENDAR
VERSION:2.0
PRODID:-//ASHE Georgia Section - ECPv6.15.20//NONSGML v1.0//EN
CALSCALE:GREGORIAN
METHOD:PUBLISH
X-WR-CALNAME:ASHE Georgia Section
X-ORIGINAL-URL:https://georgia.ashe.pro
X-WR-CALDESC:Events for ASHE Georgia Section
REFRESH-INTERVAL;VALUE=DURATION:PT1H
X-Robots-Tag:noindex
X-PUBLISHED-TTL:PT1H
BEGIN:VTIMEZONE
TZID:America/New_York
BEGIN:DAYLIGHT
TZOFFSETFROM:-0500
TZOFFSETTO:-0400
TZNAME:EDT
DTSTART:20190310T070000
END:DAYLIGHT
BEGIN:STANDARD
TZOFFSETFROM:-0400
TZOFFSETTO:-0500
TZNAME:EST
DTSTART:20191103T060000
END:STANDARD
BEGIN:DAYLIGHT
TZOFFSETFROM:-0500
TZOFFSETTO:-0400
TZNAME:EDT
DTSTART:20200308T070000
END:DAYLIGHT
BEGIN:STANDARD
TZOFFSETFROM:-0400
TZOFFSETTO:-0500
TZNAME:EST
DTSTART:20201101T060000
END:STANDARD
BEGIN:DAYLIGHT
TZOFFSETFROM:-0500
TZOFFSETTO:-0400
TZNAME:EDT
DTSTART:20210314T070000
END:DAYLIGHT
BEGIN:STANDARD
TZOFFSETFROM:-0400
TZOFFSETTO:-0500
TZNAME:EST
DTSTART:20211107T060000
END:STANDARD
END:VTIMEZONE
BEGIN:VEVENT
DTSTART;TZID=America/New_York:20200514T120000
DTEND;TZID=America/New_York:20200514T190000
DTSTAMP:20260423T044313
CREATED:20200302T005232Z
LAST-MODIFIED:20200803T015854Z
UID:3181-1589457600-1589482800@georgia.ashe.pro
SUMMARY:2020 ASHE Golf Tournament- Canceled
DESCRIPTION:× \n\n  \nTo protect the health and safety of our members\, this event has been cancelled. \nAnyone already registered has the option to hold their spot until the rescheduled event or may receive a refund upon request. \n\n\n OUR EVENT SPONSORS  |  BECOME A SPONSOR \nRegistration for this event has ended.Online registration for the 2025 ASHE Bowling Tournament is closed. If you still wish to register for this event\, contact Amanda Powers to confirm if space is still available.NETWORK AND BOWL AT THE 2025 ASHE GEORGIA BOWLING TOURNAMENT\n\nBenefitting the Babs Abubakari Memorial Scholarship\n\nFour-person teams!\nFour divisions!\nFour champions!\n\nBecome a sponsor today!!! Contact Amanda Powers for questions! \n\nMembership must be renewed prior to registration for this event.   ___________________________________________________________________________________Important Dates\nRegistration Begins:  Monday\, July 28th\, 2025 at 07:00am    Deadline For Sponsors to Use Their Held Spots:   Thursday\, August 14th\, 2025 at 05:00pmRegistration Closes:  Monday\, August 25th\, 2025 at 05:00pmQuestions and comments?Contact Amanda Powers (amanda.powers@kimley-horn.com).___________________________________________________________________________________CLICK HERE FOR A PRINTABLE FLYER\n\n 
URL:https://georgia.ashe.pro/event/2020golf/
LOCATION:River Pines Golf Club\, 4775 Old Alabama Road\, Johns Creek\, GA\, 30022
CATEGORIES:Golf,Social
ORGANIZER;CN="Ashley Chan":MAILTO:Ashley.Chan@jacobs.com
END:VEVENT
END:VCALENDAR