BEGIN:VCALENDAR
VERSION:2.0
PRODID:-//ASHE Georgia Section - ECPv6.15.15//NONSGML v1.0//EN
CALSCALE:GREGORIAN
METHOD:PUBLISH
X-WR-CALNAME:ASHE Georgia Section
X-ORIGINAL-URL:https://georgia.ashe.pro
X-WR-CALDESC:Events for ASHE Georgia Section
REFRESH-INTERVAL;VALUE=DURATION:PT1H
X-Robots-Tag:noindex
X-PUBLISHED-TTL:PT1H
BEGIN:VTIMEZONE
TZID:America/New_York
BEGIN:DAYLIGHT
TZOFFSETFROM:-0500
TZOFFSETTO:-0400
TZNAME:EDT
DTSTART:20210314T070000
END:DAYLIGHT
BEGIN:STANDARD
TZOFFSETFROM:-0400
TZOFFSETTO:-0500
TZNAME:EST
DTSTART:20211107T060000
END:STANDARD
BEGIN:DAYLIGHT
TZOFFSETFROM:-0500
TZOFFSETTO:-0400
TZNAME:EDT
DTSTART:20220313T070000
END:DAYLIGHT
BEGIN:STANDARD
TZOFFSETFROM:-0400
TZOFFSETTO:-0500
TZNAME:EST
DTSTART:20221106T060000
END:STANDARD
BEGIN:DAYLIGHT
TZOFFSETFROM:-0500
TZOFFSETTO:-0400
TZNAME:EDT
DTSTART:20230312T070000
END:DAYLIGHT
BEGIN:STANDARD
TZOFFSETFROM:-0400
TZOFFSETTO:-0500
TZNAME:EST
DTSTART:20231105T060000
END:STANDARD
END:VTIMEZONE
BEGIN:VEVENT
DTSTART;TZID=America/New_York:20220721T163000
DTEND;TZID=America/New_York:20220721T183000
DTSTAMP:20260421T075722
CREATED:20220630T132118Z
LAST-MODIFIED:20220712T172139Z
UID:3647-1658421000-1658428200@georgia.ashe.pro
SUMMARY:2022 ASHE July Happy Hour
DESCRIPTION:OUR EVENT SPONSORS  |  BECOME A SPONSOR \nRegistration for this event has ended.Online registration for the 2025 ASHE Bowling Tournament is closed. If you still wish to register for this event\, contact Amanda Powers to confirm if space is still available.NETWORK AND BOWL AT THE 2025 ASHE GEORGIA BOWLING TOURNAMENT\n\nBenefitting the Babs Abubakari Memorial Scholarship\n\nFour-person teams!\nFour divisions!\nFour champions!\n\nBecome a sponsor today!!! Contact Amanda Powers for questions! \n\nMembership must be renewed prior to registration for this event.   ___________________________________________________________________________________Important Dates\nRegistration Begins:  Monday\, July 28th\, 2025 at 07:00am    Deadline For Sponsors to Use Their Held Spots:   Thursday\, August 14th\, 2025 at 05:00pmRegistration Closes:  Monday\, August 25th\, 2025 at 05:00pmQuestions and comments?Contact Amanda Powers (amanda.powers@kimley-horn.com).___________________________________________________________________________________CLICK HERE FOR A PRINTABLE FLYER
URL:https://georgia.ashe.pro/event/2022soc07/
LOCATION:Slow Pour Brewing Company\, 407 N. Clayton Street\, Lawrenceville\, GA\, 30046\, United States
CATEGORIES:Social
ORGANIZER;CN="Jared Estes":MAILTO:jared.estes@colliersengineering.com
END:VEVENT
END:VCALENDAR